BEGIN:VCALENDAR
VERSION:2.0
PRODID:-//Madison Jazz Society - ECPv6.15.20//NONSGML v1.0//EN
CALSCALE:GREGORIAN
METHOD:PUBLISH
X-WR-CALNAME:Madison Jazz Society
X-ORIGINAL-URL:https://www.madisonjazz.com
X-WR-CALDESC:Events for Madison Jazz Society
REFRESH-INTERVAL;VALUE=DURATION:PT1H
X-Robots-Tag:noindex
X-PUBLISHED-TTL:PT1H
BEGIN:VTIMEZONE
TZID:America/Chicago
BEGIN:DAYLIGHT
TZOFFSETFROM:-0600
TZOFFSETTO:-0500
TZNAME:CDT
DTSTART:20230312T080000
END:DAYLIGHT
BEGIN:STANDARD
TZOFFSETFROM:-0500
TZOFFSETTO:-0600
TZNAME:CST
DTSTART:20231105T070000
END:STANDARD
BEGIN:DAYLIGHT
TZOFFSETFROM:-0600
TZOFFSETTO:-0500
TZNAME:CDT
DTSTART:20240310T080000
END:DAYLIGHT
BEGIN:STANDARD
TZOFFSETFROM:-0500
TZOFFSETTO:-0600
TZNAME:CST
DTSTART:20241103T070000
END:STANDARD
BEGIN:DAYLIGHT
TZOFFSETFROM:-0600
TZOFFSETTO:-0500
TZNAME:CDT
DTSTART:20250309T080000
END:DAYLIGHT
BEGIN:STANDARD
TZOFFSETFROM:-0500
TZOFFSETTO:-0600
TZNAME:CST
DTSTART:20251102T070000
END:STANDARD
END:VTIMEZONE
BEGIN:VEVENT
DTSTART;TZID=America/Chicago:20240317T100000
DTEND;TZID=America/Chicago:20240317T140000
DTSTAMP:20260419T075640
CREATED:20240307T192630Z
LAST-MODIFIED:20240307T192638Z
UID:10000738-1710669600-1710684000@www.madisonjazz.com
SUMMARY:Dan Barker\, keyboards; Cliff Frederiksen\, guitar; Rand Moore\, drums; John Widdicombe\, bass
DESCRIPTION:
URL:https://www.madisonjazz.com/event/dan-barket-keyboards-cliff-frederiksen-guitar-rand-moore-drums-john-widdicombe-bass/
LOCATION:Seven Acre Dairy Company\, 6858 Paoli Rd\, Belleville\, 53508\, United States
CATEGORIES:Other Events
GEO:42.9298189;-89.5234697
X-APPLE-STRUCTURED-LOCATION;VALUE=URI;X-ADDRESS=Seven Acre Dairy Company 6858 Paoli Rd Belleville 53508 United States;X-APPLE-RADIUS=500;X-TITLE=6858 Paoli Rd:geo:-89.5234697,42.9298189
END:VEVENT
BEGIN:VEVENT
DTSTART;TZID=America/Chicago:20240320T180000
DTEND;TZID=America/Chicago:20240320T213000
DTSTAMP:20260419T075640
CREATED:20231005T105325Z
LAST-MODIFIED:20231116T001727Z
UID:10000638-1710957600-1710970200@www.madisonjazz.com
SUMMARY:Madison Jazz Jam with Improvisation Workshop
DESCRIPTION:This event includes an educational workshop from 6-7pm followed by an open jam from 7 to 9:30pm.
URL:https://www.madisonjazz.com/event/madison-jazz-jam-2/2024-03-20/
LOCATION:COPA\, 2841 Index Rd\, Madison\, 53713
CATEGORIES:MJS Events
GEO:43.029352;-89.405501
X-APPLE-STRUCTURED-LOCATION;VALUE=URI;X-ADDRESS=COPA 2841 Index Rd Madison 53713;X-APPLE-RADIUS=500;X-TITLE=2841 Index Rd:geo:-89.405501,43.029352
END:VEVENT
BEGIN:VEVENT
DTSTART;TZID=America/Chicago:20240323T100000
DTEND;TZID=America/Chicago:20240323T140000
DTSTAMP:20260419T075640
CREATED:20240307T192736Z
LAST-MODIFIED:20240307T192736Z
UID:10000740-1711188000-1711202400@www.madisonjazz.com
SUMMARY:Cliff Frederiksen\, guitar; Rand Moore\, drums; John Widdicombe\, bass
DESCRIPTION:
URL:https://www.madisonjazz.com/event/cliff-frederiksen-guitar-rand-moore-drums-john-widdicombe-bass/
LOCATION:Seven Acre Dairy Company\, 6858 Paoli Rd\, Belleville\, 53508\, United States
CATEGORIES:Other Events
GEO:42.9298189;-89.5234697
X-APPLE-STRUCTURED-LOCATION;VALUE=URI;X-ADDRESS=Seven Acre Dairy Company 6858 Paoli Rd Belleville 53508 United States;X-APPLE-RADIUS=500;X-TITLE=6858 Paoli Rd:geo:-89.5234697,42.9298189
END:VEVENT
END:VCALENDAR