BEGIN:VCALENDAR
VERSION:2.0
PRODID:-//Madison Jazz Society - ECPv6.15.20//NONSGML v1.0//EN
CALSCALE:GREGORIAN
METHOD:PUBLISH
X-WR-CALNAME:Madison Jazz Society
X-ORIGINAL-URL:https://www.madisonjazz.com
X-WR-CALDESC:Events for Madison Jazz Society
REFRESH-INTERVAL;VALUE=DURATION:PT1H
X-Robots-Tag:noindex
X-PUBLISHED-TTL:PT1H
BEGIN:VTIMEZONE
TZID:America/Chicago
BEGIN:DAYLIGHT
TZOFFSETFROM:-0600
TZOFFSETTO:-0500
TZNAME:CDT
DTSTART:20220313T080000
END:DAYLIGHT
BEGIN:STANDARD
TZOFFSETFROM:-0500
TZOFFSETTO:-0600
TZNAME:CST
DTSTART:20221106T070000
END:STANDARD
BEGIN:DAYLIGHT
TZOFFSETFROM:-0600
TZOFFSETTO:-0500
TZNAME:CDT
DTSTART:20230312T080000
END:DAYLIGHT
BEGIN:STANDARD
TZOFFSETFROM:-0500
TZOFFSETTO:-0600
TZNAME:CST
DTSTART:20231105T070000
END:STANDARD
BEGIN:DAYLIGHT
TZOFFSETFROM:-0600
TZOFFSETTO:-0500
TZNAME:CDT
DTSTART:20240310T080000
END:DAYLIGHT
BEGIN:STANDARD
TZOFFSETFROM:-0500
TZOFFSETTO:-0600
TZNAME:CST
DTSTART:20241103T070000
END:STANDARD
END:VTIMEZONE
BEGIN:VEVENT
DTSTART;TZID=America/Chicago:20231217T190000
DTEND;TZID=America/Chicago:20231217T220000
DTSTAMP:20260419T192207
CREATED:20231126T164005Z
LAST-MODIFIED:20231126T164005Z
UID:10000719-1702839600-1702850400@www.madisonjazz.com
SUMMARY:Night of the Improviser with Rob DZ & Kevin Carnes--A Live Jam
DESCRIPTION:
URL:https://www.madisonjazz.com/event/night-of-the-improviser-with-rob-dz-kevin-carnes-a-live-jam/
LOCATION:Cafe Coda\, 1224 Williamson St\, Madison\, WI\, 53703\, United States
CATEGORIES:Other Events
GEO:43.0839048;-89.3636915
X-APPLE-STRUCTURED-LOCATION;VALUE=URI;X-ADDRESS=Cafe Coda 1224 Williamson St Madison WI 53703 United States;X-APPLE-RADIUS=500;X-TITLE=1224 Williamson St:geo:-89.3636915,43.0839048
END:VEVENT
BEGIN:VEVENT
DTSTART;TZID=America/Chicago:20231219T190000
DTEND;TZID=America/Chicago:20231219T220000
DTSTAMP:20260419T192207
CREATED:20231126T162311Z
LAST-MODIFIED:20231126T162311Z
UID:10000702-1703012400-1703023200@www.madisonjazz.com
SUMMARY:Darren Sterud Orchestra's Ellington's Nutcracker
DESCRIPTION:The two performances on December 19 & 20 will be the last annual performance of this jazzy holiday classic.  Tickets: $10 to $30 through www.thecardinalbarmadison.com
URL:https://www.madisonjazz.com/event/darren-sterud-orchestras-ellingtons-nutcracker/
LOCATION:Cardinal Bar\, 418 E Wilson St\, Madison\, 53703\, United States
CATEGORIES:Other Events
GEO:43.0758013;-89.3771778
X-APPLE-STRUCTURED-LOCATION;VALUE=URI;X-ADDRESS=Cardinal Bar 418 E Wilson St Madison 53703 United States;X-APPLE-RADIUS=500;X-TITLE=418 E Wilson St:geo:-89.3771778,43.0758013
END:VEVENT
BEGIN:VEVENT
DTSTART;TZID=America/Chicago:20231220T180000
DTEND;TZID=America/Chicago:20231220T213000
DTSTAMP:20260419T192207
CREATED:20231005T105325Z
LAST-MODIFIED:20231116T001727Z
UID:10000635-1703095200-1703107800@www.madisonjazz.com
SUMMARY:Madison Jazz Jam with Improvisation Workshop
DESCRIPTION:This event includes an educational workshop from 6-7pm followed by an open jam from 7 to 9:30pm.
URL:https://www.madisonjazz.com/event/madison-jazz-jam-2/2023-12-20/
LOCATION:COPA\, 2841 Index Rd\, Madison\, 53713
CATEGORIES:MJS Events
GEO:43.029352;-89.405501
X-APPLE-STRUCTURED-LOCATION;VALUE=URI;X-ADDRESS=COPA 2841 Index Rd Madison 53713;X-APPLE-RADIUS=500;X-TITLE=2841 Index Rd:geo:-89.405501,43.029352
END:VEVENT
BEGIN:VEVENT
DTSTART;TZID=America/Chicago:20231220T190000
DTEND;TZID=America/Chicago:20231220T220000
DTSTAMP:20260419T192207
CREATED:20231126T162337Z
LAST-MODIFIED:20231126T162337Z
UID:10000703-1703098800-1703109600@www.madisonjazz.com
SUMMARY:Darren Sterud Orchestra's Ellington's Nutcracker
DESCRIPTION:The two performances on December 19 & 20 will be the last annual performance of this jazzy holiday classic.  Tickets: $10 to $30 through www.thecardinalbarmadison.com
URL:https://www.madisonjazz.com/event/darren-sterud-orchestras-ellingtons-nutcracker-2/
LOCATION:Cardinal Bar\, 418 E Wilson St\, Madison\, 53703\, United States
CATEGORIES:Other Events
GEO:43.0758013;-89.3771778
X-APPLE-STRUCTURED-LOCATION;VALUE=URI;X-ADDRESS=Cardinal Bar 418 E Wilson St Madison 53703 United States;X-APPLE-RADIUS=500;X-TITLE=418 E Wilson St:geo:-89.3771778,43.0758013
END:VEVENT
BEGIN:VEVENT
DTSTART;TZID=America/Chicago:20231220T200000
DTEND;TZID=America/Chicago:20231220T220000
DTSTAMP:20260419T192207
CREATED:20231126T163102Z
LAST-MODIFIED:20231126T163102Z
UID:10000711-1703102400-1703109600@www.madisonjazz.com
SUMMARY:Jumptown Swing Night
DESCRIPTION:
URL:https://www.madisonjazz.com/event/jumptown-swing-night-20/
LOCATION:Cafe Coda\, 1224 Williamson St\, Madison\, WI\, 53703\, United States
CATEGORIES:Other Events
GEO:43.0839048;-89.3636915
X-APPLE-STRUCTURED-LOCATION;VALUE=URI;X-ADDRESS=Cafe Coda 1224 Williamson St Madison WI 53703 United States;X-APPLE-RADIUS=500;X-TITLE=1224 Williamson St:geo:-89.3636915,43.0839048
END:VEVENT
END:VCALENDAR