BEGIN:VCALENDAR
VERSION:2.0
PRODID:-//Madison Jazz Society - ECPv6.15.20//NONSGML v1.0//EN
CALSCALE:GREGORIAN
METHOD:PUBLISH
X-WR-CALNAME:Madison Jazz Society
X-ORIGINAL-URL:https://www.madisonjazz.com
X-WR-CALDESC:Events for Madison Jazz Society
REFRESH-INTERVAL;VALUE=DURATION:PT1H
X-Robots-Tag:noindex
X-PUBLISHED-TTL:PT1H
BEGIN:VTIMEZONE
TZID:America/Chicago
BEGIN:DAYLIGHT
TZOFFSETFROM:-0600
TZOFFSETTO:-0500
TZNAME:CDT
DTSTART:20220313T080000
END:DAYLIGHT
BEGIN:STANDARD
TZOFFSETFROM:-0500
TZOFFSETTO:-0600
TZNAME:CST
DTSTART:20221106T070000
END:STANDARD
BEGIN:DAYLIGHT
TZOFFSETFROM:-0600
TZOFFSETTO:-0500
TZNAME:CDT
DTSTART:20230312T080000
END:DAYLIGHT
BEGIN:STANDARD
TZOFFSETFROM:-0500
TZOFFSETTO:-0600
TZNAME:CST
DTSTART:20231105T070000
END:STANDARD
BEGIN:DAYLIGHT
TZOFFSETFROM:-0600
TZOFFSETTO:-0500
TZNAME:CDT
DTSTART:20240310T080000
END:DAYLIGHT
BEGIN:STANDARD
TZOFFSETFROM:-0500
TZOFFSETTO:-0600
TZNAME:CST
DTSTART:20241103T070000
END:STANDARD
END:VTIMEZONE
BEGIN:VEVENT
DTSTART;TZID=America/Chicago:20231203T140000
DTEND;TZID=America/Chicago:20231203T170000
DTSTAMP:20260419T224628
CREATED:20231113T212658Z
LAST-MODIFIED:20231113T212658Z
UID:10000700-1701612000-1701622800@www.madisonjazz.com
SUMMARY:Holiday Concert Spectacular!!
DESCRIPTION:Dimensions in Sound (a 17-piece big band) directed by Dave Rush and The Studio Orchestra (a 35-piece full orchestra) directed by Bryce Sanville will present this FREE concert.  There will be a coffee fundraiser and auction during the intermission.  Donations will be accepted ($10 suggested donation).
URL:https://www.madisonjazz.com/event/holiday-concert-spectacular/
LOCATION:Middleton High School Performing Arts Center\, 2100 Bristol St\, Middleton\, WI\, 53562\, United States
CATEGORIES:Other Events
GEO:43.1000939;-89.507585
X-APPLE-STRUCTURED-LOCATION;VALUE=URI;X-ADDRESS=Middleton High School Performing Arts Center 2100 Bristol St Middleton WI 53562 United States;X-APPLE-RADIUS=500;X-TITLE=2100 Bristol St:geo:-89.507585,43.1000939
END:VEVENT
BEGIN:VEVENT
DTSTART;TZID=America/Chicago:20231206T200000
DTEND;TZID=America/Chicago:20231206T220000
DTSTAMP:20260419T224628
CREATED:20231126T163006Z
LAST-MODIFIED:20231126T163006Z
UID:10000709-1701892800-1701900000@www.madisonjazz.com
SUMMARY:Jumptown Swing Night
DESCRIPTION:
URL:https://www.madisonjazz.com/event/jumptown-swing-night-18/
LOCATION:Cafe Coda\, 1224 Williamson St\, Madison\, WI\, 53703\, United States
CATEGORIES:Other Events
GEO:43.0839048;-89.3636915
X-APPLE-STRUCTURED-LOCATION;VALUE=URI;X-ADDRESS=Cafe Coda 1224 Williamson St Madison WI 53703 United States;X-APPLE-RADIUS=500;X-TITLE=1224 Williamson St:geo:-89.3636915,43.0839048
END:VEVENT
BEGIN:VEVENT
DTSTART;TZID=America/Chicago:20231208T170000
DTEND;TZID=America/Chicago:20231208T183000
DTSTAMP:20260419T224628
CREATED:20231126T163149Z
LAST-MODIFIED:20231126T163149Z
UID:10000712-1702054800-1702060200@www.madisonjazz.com
SUMMARY:Happy Hour with Jim Erickson
DESCRIPTION:
URL:https://www.madisonjazz.com/event/happy-hour-with-jim-erickson-4/
LOCATION:Cafe Coda\, 1224 Williamson St\, Madison\, WI\, 53703\, United States
CATEGORIES:Other Events
GEO:43.0839048;-89.3636915
X-APPLE-STRUCTURED-LOCATION;VALUE=URI;X-ADDRESS=Cafe Coda 1224 Williamson St Madison WI 53703 United States;X-APPLE-RADIUS=500;X-TITLE=1224 Williamson St:geo:-89.3636915,43.0839048
END:VEVENT
BEGIN:VEVENT
DTSTART;TZID=America/Chicago:20231209T100000
DTEND;TZID=America/Chicago:20231209T120000
DTSTAMP:20260419T224628
CREATED:20231126T162723Z
LAST-MODIFIED:20231126T162723Z
UID:10000707-1702116000-1702123200@www.madisonjazz.com
SUMMARY:Cool School
DESCRIPTION:
URL:https://www.madisonjazz.com/event/cool-school-13/
LOCATION:Cafe Coda\, 1224 Williamson St\, Madison\, WI\, 53703\, United States
CATEGORIES:Other Events
GEO:43.0839048;-89.3636915
X-APPLE-STRUCTURED-LOCATION;VALUE=URI;X-ADDRESS=Cafe Coda 1224 Williamson St Madison WI 53703 United States;X-APPLE-RADIUS=500;X-TITLE=1224 Williamson St:geo:-89.3636915,43.0839048
END:VEVENT
BEGIN:VEVENT
DTSTART;TZID=America/Chicago:20231209T190000
DTEND;TZID=America/Chicago:20231209T220000
DTSTAMP:20260419T224628
CREATED:20231126T163415Z
LAST-MODIFIED:20231126T163415Z
UID:10000714-1702148400-1702159200@www.madisonjazz.com
SUMMARY:DB Orchestra (Big Band)
DESCRIPTION:
URL:https://www.madisonjazz.com/event/db-orchestra-big-band/
LOCATION:Cafe Coda\, 1224 Williamson St\, Madison\, WI\, 53703\, United States
CATEGORIES:Other Events
GEO:43.0839048;-89.3636915
X-APPLE-STRUCTURED-LOCATION;VALUE=URI;X-ADDRESS=Cafe Coda 1224 Williamson St Madison WI 53703 United States;X-APPLE-RADIUS=500;X-TITLE=1224 Williamson St:geo:-89.3636915,43.0839048
END:VEVENT
END:VCALENDAR