BEGIN:VCALENDAR
VERSION:2.0
PRODID:-//Madison Jazz Society - ECPv6.15.20//NONSGML v1.0//EN
CALSCALE:GREGORIAN
METHOD:PUBLISH
X-WR-CALNAME:Madison Jazz Society
X-ORIGINAL-URL:https://www.madisonjazz.com
X-WR-CALDESC:Events for Madison Jazz Society
REFRESH-INTERVAL;VALUE=DURATION:PT1H
X-Robots-Tag:noindex
X-PUBLISHED-TTL:PT1H
BEGIN:VTIMEZONE
TZID:America/Chicago
BEGIN:DAYLIGHT
TZOFFSETFROM:-0600
TZOFFSETTO:-0500
TZNAME:CDT
DTSTART:20220313T080000
END:DAYLIGHT
BEGIN:STANDARD
TZOFFSETFROM:-0500
TZOFFSETTO:-0600
TZNAME:CST
DTSTART:20221106T070000
END:STANDARD
BEGIN:DAYLIGHT
TZOFFSETFROM:-0600
TZOFFSETTO:-0500
TZNAME:CDT
DTSTART:20230312T080000
END:DAYLIGHT
BEGIN:STANDARD
TZOFFSETFROM:-0500
TZOFFSETTO:-0600
TZNAME:CST
DTSTART:20231105T070000
END:STANDARD
BEGIN:DAYLIGHT
TZOFFSETFROM:-0600
TZOFFSETTO:-0500
TZNAME:CDT
DTSTART:20240310T080000
END:DAYLIGHT
BEGIN:STANDARD
TZOFFSETFROM:-0500
TZOFFSETTO:-0600
TZNAME:CST
DTSTART:20241103T070000
END:STANDARD
END:VTIMEZONE
BEGIN:VEVENT
DTSTART;TZID=America/Chicago:20230923T230000
DTEND;TZID=America/Chicago:20230924T230000
DTSTAMP:20260420T102717
CREATED:20230829T162415Z
LAST-MODIFIED:20230829T162415Z
UID:10000607-1695510000-1695596400@www.madisonjazz.com
SUMMARY:Weekend Jazz Playlist
DESCRIPTION:
URL:https://www.madisonjazz.com/event/weekend-jazz-playlist/
LOCATION:Cafe Coda\, 1224 Williamson St\, Madison\, WI\, 53703\, United States
CATEGORIES:Other Events
GEO:43.0839048;-89.3636915
X-APPLE-STRUCTURED-LOCATION;VALUE=URI;X-ADDRESS=Cafe Coda 1224 Williamson St Madison WI 53703 United States;X-APPLE-RADIUS=500;X-TITLE=1224 Williamson St:geo:-89.3636915,43.0839048
END:VEVENT
BEGIN:VEVENT
DTSTART;TZID=America/Chicago:20230927T200000
DTEND;TZID=America/Chicago:20230927T220000
DTSTAMP:20260420T102717
CREATED:20230829T160447Z
LAST-MODIFIED:20230829T160447Z
UID:10000588-1695844800-1695852000@www.madisonjazz.com
SUMMARY:Jumptown Swing Night
DESCRIPTION:
URL:https://www.madisonjazz.com/event/jumptown-swing-night-4/
LOCATION:Cafe Coda\, 1224 Williamson St\, Madison\, WI\, 53703\, United States
CATEGORIES:Other Events
GEO:43.0839048;-89.3636915
X-APPLE-STRUCTURED-LOCATION;VALUE=URI;X-ADDRESS=Cafe Coda 1224 Williamson St Madison WI 53703 United States;X-APPLE-RADIUS=500;X-TITLE=1224 Williamson St:geo:-89.3636915,43.0839048
END:VEVENT
BEGIN:VEVENT
DTSTART;TZID=America/Chicago:20230929T190000
DTEND;TZID=America/Chicago:20230929T230000
DTSTAMP:20260420T102717
CREATED:20230829T162557Z
LAST-MODIFIED:20230829T162557Z
UID:10000608-1696014000-1696028400@www.madisonjazz.com
SUMMARY:Tani Diakite & Afrofunkstars
DESCRIPTION:
URL:https://www.madisonjazz.com/event/tani-diakite-afrofunkstars/
LOCATION:Cafe Coda\, 1224 Williamson St\, Madison\, WI\, 53703\, United States
CATEGORIES:Other Events
GEO:43.0839048;-89.3636915
X-APPLE-STRUCTURED-LOCATION;VALUE=URI;X-ADDRESS=Cafe Coda 1224 Williamson St Madison WI 53703 United States;X-APPLE-RADIUS=500;X-TITLE=1224 Williamson St:geo:-89.3636915,43.0839048
END:VEVENT
BEGIN:VEVENT
DTSTART;TZID=America/Chicago:20230930T100000
DTEND;TZID=America/Chicago:20230930T120000
DTSTAMP:20260420T102717
CREATED:20230829T161117Z
LAST-MODIFIED:20230829T161117Z
UID:10000597-1696068000-1696075200@www.madisonjazz.com
SUMMARY:Cool School
DESCRIPTION:
URL:https://www.madisonjazz.com/event/cool-school-2/
LOCATION:Cafe Coda\, 1224 Williamson St\, Madison\, WI\, 53703\, United States
CATEGORIES:Other Events
GEO:43.0839048;-89.3636915
X-APPLE-STRUCTURED-LOCATION;VALUE=URI;X-ADDRESS=Cafe Coda 1224 Williamson St Madison WI 53703 United States;X-APPLE-RADIUS=500;X-TITLE=1224 Williamson St:geo:-89.3636915,43.0839048
END:VEVENT
END:VCALENDAR