BEGIN:VCALENDAR
VERSION:2.0
PRODID:-//Madison Jazz Society - ECPv6.15.20//NONSGML v1.0//EN
CALSCALE:GREGORIAN
METHOD:PUBLISH
X-WR-CALNAME:Madison Jazz Society
X-ORIGINAL-URL:https://www.madisonjazz.com
X-WR-CALDESC:Events for Madison Jazz Society
REFRESH-INTERVAL;VALUE=DURATION:PT1H
X-Robots-Tag:noindex
X-PUBLISHED-TTL:PT1H
BEGIN:VTIMEZONE
TZID:America/Chicago
BEGIN:DAYLIGHT
TZOFFSETFROM:-0600
TZOFFSETTO:-0500
TZNAME:CDT
DTSTART:20220313T080000
END:DAYLIGHT
BEGIN:STANDARD
TZOFFSETFROM:-0500
TZOFFSETTO:-0600
TZNAME:CST
DTSTART:20221106T070000
END:STANDARD
BEGIN:DAYLIGHT
TZOFFSETFROM:-0600
TZOFFSETTO:-0500
TZNAME:CDT
DTSTART:20230312T080000
END:DAYLIGHT
BEGIN:STANDARD
TZOFFSETFROM:-0500
TZOFFSETTO:-0600
TZNAME:CST
DTSTART:20231105T070000
END:STANDARD
BEGIN:DAYLIGHT
TZOFFSETFROM:-0600
TZOFFSETTO:-0500
TZNAME:CDT
DTSTART:20240310T080000
END:DAYLIGHT
BEGIN:STANDARD
TZOFFSETFROM:-0500
TZOFFSETTO:-0600
TZNAME:CST
DTSTART:20241103T070000
END:STANDARD
END:VTIMEZONE
BEGIN:VEVENT
DTSTART;TZID=America/Chicago:20230917T130000
DTEND;TZID=America/Chicago:20230917T170000
DTSTAMP:20260420T082537
CREATED:20230530T184308Z
LAST-MODIFIED:20230530T184411Z
UID:10000502-1694955600-1694970000@www.madisonjazz.com
SUMMARY:New MJS Kick-off Event
DESCRIPTION:1-3 — Concert by Madison Jazz Orchestra\, preceded by a short introduction & membership meeting \n3-5 — Improvisation workshop & Madison Jazz Jam session
URL:https://www.madisonjazz.com/event/new-mjs-kick-off-event/
LOCATION:COPA\, 2841 Index Rd\, Madison\, 53713
CATEGORIES:MJS Events
GEO:43.029352;-89.405501
X-APPLE-STRUCTURED-LOCATION;VALUE=URI;X-ADDRESS=COPA 2841 Index Rd Madison 53713;X-APPLE-RADIUS=500;X-TITLE=2841 Index Rd:geo:-89.405501,43.029352
END:VEVENT
BEGIN:VEVENT
DTSTART;TZID=America/Chicago:20230917T190000
DTEND;TZID=America/Chicago:20230917T210000
DTSTAMP:20260420T082537
CREATED:20230829T161645Z
LAST-MODIFIED:20230829T161645Z
UID:10000602-1694977200-1694984400@www.madisonjazz.com
SUMMARY:Improvising Jazz Jam hosted by Keven Carnes with special guests
DESCRIPTION:
URL:https://www.madisonjazz.com/event/improvising-jazz-jam-hosted-by-keven-carnes-with-special-guests-5/
LOCATION:Cafe Coda\, 1224 Williamson St\, Madison\, WI\, 53703\, United States
CATEGORIES:Other Events
GEO:43.0839048;-89.3636915
X-APPLE-STRUCTURED-LOCATION;VALUE=URI;X-ADDRESS=Cafe Coda 1224 Williamson St Madison WI 53703 United States;X-APPLE-RADIUS=500;X-TITLE=1224 Williamson St:geo:-89.3636915,43.0839048
END:VEVENT
BEGIN:VEVENT
DTSTART;TZID=America/Chicago:20230920T200000
DTEND;TZID=America/Chicago:20230920T220000
DTSTAMP:20260420T082537
CREATED:20230829T160416Z
LAST-MODIFIED:20230829T160416Z
UID:10000587-1695240000-1695247200@www.madisonjazz.com
SUMMARY:Jumptown Swing Night
DESCRIPTION:
URL:https://www.madisonjazz.com/event/jumptown-swing-night-3/
LOCATION:Cafe Coda\, 1224 Williamson St\, Madison\, WI\, 53703\, United States
CATEGORIES:Other Events
GEO:43.0839048;-89.3636915
X-APPLE-STRUCTURED-LOCATION;VALUE=URI;X-ADDRESS=Cafe Coda 1224 Williamson St Madison WI 53703 United States;X-APPLE-RADIUS=500;X-TITLE=1224 Williamson St:geo:-89.3636915,43.0839048
END:VEVENT
BEGIN:VEVENT
DTSTART;TZID=America/Chicago:20230921T190000
DTEND;TZID=America/Chicago:20230921T220000
DTSTAMP:20260420T082537
CREATED:20230829T161251Z
LAST-MODIFIED:20230829T161251Z
UID:10000598-1695322800-1695333600@www.madisonjazz.com
SUMMARY:Madison Jazz Orchestra
DESCRIPTION:
URL:https://www.madisonjazz.com/event/madison-jazz-orchestra-4/
LOCATION:Cafe Coda\, 1224 Williamson St\, Madison\, WI\, 53703\, United States
CATEGORIES:Other Events
GEO:43.0839048;-89.3636915
X-APPLE-STRUCTURED-LOCATION;VALUE=URI;X-ADDRESS=Cafe Coda 1224 Williamson St Madison WI 53703 United States;X-APPLE-RADIUS=500;X-TITLE=1224 Williamson St:geo:-89.3636915,43.0839048
END:VEVENT
BEGIN:VEVENT
DTSTART;TZID=America/Chicago:20230922T173000
DTEND;TZID=America/Chicago:20230922T193000
DTSTAMP:20260420T082537
CREATED:20230829T155104Z
LAST-MODIFIED:20230829T155104Z
UID:10000579-1695403800-1695411000@www.madisonjazz.com
SUMMARY:Cliff Frederiksen\, guitar; Larry Stout\, keyboard & John Widdicombe\, bass
DESCRIPTION:Otto’s Restaurant & Bar is presenting  live music Tuesday through Friday this summer.  Dinner reservations are required to dine and listen to the music on the heated deck or patios.
URL:https://www.madisonjazz.com/event/cliff-frederiksen-guitar-larry-stout-keyboard-john-widdicombe-bass-3/
LOCATION:Otto’s\, 6405 Mineral Point Rd\, Madison\, WI\, 53705\, United States
CATEGORIES:Other Events
GEO:43.0600456;-89.4906881
X-APPLE-STRUCTURED-LOCATION;VALUE=URI;X-ADDRESS=Otto’s 6405 Mineral Point Rd Madison WI 53705 United States;X-APPLE-RADIUS=500;X-TITLE=6405 Mineral Point Rd:geo:-89.4906881,43.0600456
END:VEVENT
BEGIN:VEVENT
DTSTART;TZID=America/Chicago:20230922T193000
DTEND;TZID=America/Chicago:20230922T220000
DTSTAMP:20260420T082537
CREATED:20230829T162133Z
LAST-MODIFIED:20230829T162133Z
UID:10000605-1695411000-1695420000@www.madisonjazz.com
SUMMARY:Broun Fellinis with Kevin Carnes
DESCRIPTION:
URL:https://www.madisonjazz.com/event/broun-fellinis-with-kevin-carnes/
LOCATION:Cafe Coda\, 1224 Williamson St\, Madison\, WI\, 53703\, United States
CATEGORIES:Other Events
GEO:43.0839048;-89.3636915
X-APPLE-STRUCTURED-LOCATION;VALUE=URI;X-ADDRESS=Cafe Coda 1224 Williamson St Madison WI 53703 United States;X-APPLE-RADIUS=500;X-TITLE=1224 Williamson St:geo:-89.3636915,43.0839048
END:VEVENT
BEGIN:VEVENT
DTSTART;TZID=America/Chicago:20230923T100000
DTEND;TZID=America/Chicago:20230923T120000
DTSTAMP:20260420T082537
CREATED:20230829T161049Z
LAST-MODIFIED:20230829T161049Z
UID:10000596-1695463200-1695470400@www.madisonjazz.com
SUMMARY:Cool School
DESCRIPTION:
URL:https://www.madisonjazz.com/event/cool-school/
LOCATION:Cafe Coda\, 1224 Williamson St\, Madison\, WI\, 53703\, United States
CATEGORIES:Other Events
GEO:43.0839048;-89.3636915
X-APPLE-STRUCTURED-LOCATION;VALUE=URI;X-ADDRESS=Cafe Coda 1224 Williamson St Madison WI 53703 United States;X-APPLE-RADIUS=500;X-TITLE=1224 Williamson St:geo:-89.3636915,43.0839048
END:VEVENT
BEGIN:VEVENT
DTSTART;TZID=America/Chicago:20230923T200000
DTEND;TZID=America/Chicago:20230923T223000
DTSTAMP:20260420T082537
CREATED:20230829T162239Z
LAST-MODIFIED:20230904T153647Z
UID:10000606-1695499200-1695508200@www.madisonjazz.com
SUMMARY:Adegoke Steve Colson & Iqua Colson's Unity Troupe
DESCRIPTION:
URL:https://www.madisonjazz.com/event/adegoke-steve-iqua-colson-quartet/
LOCATION:Cafe Coda\, 1224 Williamson St\, Madison\, WI\, 53703\, United States
CATEGORIES:Other Events
GEO:43.0839048;-89.3636915
X-APPLE-STRUCTURED-LOCATION;VALUE=URI;X-ADDRESS=Cafe Coda 1224 Williamson St Madison WI 53703 United States;X-APPLE-RADIUS=500;X-TITLE=1224 Williamson St:geo:-89.3636915,43.0839048
END:VEVENT
BEGIN:VEVENT
DTSTART;TZID=America/Chicago:20230923T230000
DTEND;TZID=America/Chicago:20230924T230000
DTSTAMP:20260420T082537
CREATED:20230829T162415Z
LAST-MODIFIED:20230829T162415Z
UID:10000607-1695510000-1695596400@www.madisonjazz.com
SUMMARY:Weekend Jazz Playlist
DESCRIPTION:
URL:https://www.madisonjazz.com/event/weekend-jazz-playlist/
LOCATION:Cafe Coda\, 1224 Williamson St\, Madison\, WI\, 53703\, United States
CATEGORIES:Other Events
GEO:43.0839048;-89.3636915
X-APPLE-STRUCTURED-LOCATION;VALUE=URI;X-ADDRESS=Cafe Coda 1224 Williamson St Madison WI 53703 United States;X-APPLE-RADIUS=500;X-TITLE=1224 Williamson St:geo:-89.3636915,43.0839048
END:VEVENT
END:VCALENDAR