BEGIN:VCALENDAR
VERSION:2.0
PRODID:-//Madison Jazz Society - ECPv6.15.20//NONSGML v1.0//EN
CALSCALE:GREGORIAN
METHOD:PUBLISH
X-WR-CALNAME:Madison Jazz Society
X-ORIGINAL-URL:https://www.madisonjazz.com
X-WR-CALDESC:Events for Madison Jazz Society
REFRESH-INTERVAL;VALUE=DURATION:PT1H
X-Robots-Tag:noindex
X-PUBLISHED-TTL:PT1H
BEGIN:VTIMEZONE
TZID:America/Chicago
BEGIN:DAYLIGHT
TZOFFSETFROM:-0600
TZOFFSETTO:-0500
TZNAME:CDT
DTSTART:20240310T080000
END:DAYLIGHT
BEGIN:STANDARD
TZOFFSETFROM:-0500
TZOFFSETTO:-0600
TZNAME:CST
DTSTART:20241103T070000
END:STANDARD
BEGIN:DAYLIGHT
TZOFFSETFROM:-0600
TZOFFSETTO:-0500
TZNAME:CDT
DTSTART:20250309T080000
END:DAYLIGHT
BEGIN:STANDARD
TZOFFSETFROM:-0500
TZOFFSETTO:-0600
TZNAME:CST
DTSTART:20251102T070000
END:STANDARD
BEGIN:DAYLIGHT
TZOFFSETFROM:-0600
TZOFFSETTO:-0500
TZNAME:CDT
DTSTART:20260308T080000
END:DAYLIGHT
BEGIN:STANDARD
TZOFFSETFROM:-0500
TZOFFSETTO:-0600
TZNAME:CST
DTSTART:20261101T070000
END:STANDARD
END:VTIMEZONE
BEGIN:VEVENT
DTSTART;TZID=America/Chicago:20250605T170000
DTEND;TZID=America/Chicago:20250605T203000
DTSTAMP:20260420T012302
CREATED:20250331T190341Z
LAST-MODIFIED:20250426T223518Z
UID:10000778-1749142800-1749155400@www.madisonjazz.com
SUMMARY:iGnitE jAzz! - All Ages\, All Levels Jazz Camp
DESCRIPTION:MORE INFO & REGISTRATION DETAILS
URL:https://www.madisonjazz.com/event/ignite-jazz-jazz-camp/2025-06-05/
LOCATION:MYArts\, 1055 E Mifflin St\, Madison\, 53703\, United States
CATEGORIES:MJS Events
ATTACH;FMTTYPE=image/png:https://www.madisonjazz.com/main/wp-content/uploads/2025/03/MJS_IgniteJazz_Cover_720-e1745604904111.png
GEO:43.0849959;-89.371588
X-APPLE-STRUCTURED-LOCATION;VALUE=URI;X-ADDRESS=MYArts 1055 E Mifflin St Madison 53703 United States;X-APPLE-RADIUS=500;X-TITLE=1055 E Mifflin St:geo:-89.371588,43.0849959
END:VEVENT
END:VCALENDAR