BEGIN:VCALENDAR
VERSION:2.0
PRODID:-//Madison Jazz Society - ECPv6.15.20//NONSGML v1.0//EN
CALSCALE:GREGORIAN
METHOD:PUBLISH
X-WR-CALNAME:Madison Jazz Society
X-ORIGINAL-URL:https://www.madisonjazz.com
X-WR-CALDESC:Events for Madison Jazz Society
REFRESH-INTERVAL;VALUE=DURATION:PT1H
X-Robots-Tag:noindex
X-PUBLISHED-TTL:PT1H
BEGIN:VTIMEZONE
TZID:America/Chicago
BEGIN:DAYLIGHT
TZOFFSETFROM:-0600
TZOFFSETTO:-0500
TZNAME:CDT
DTSTART:20220313T080000
END:DAYLIGHT
BEGIN:STANDARD
TZOFFSETFROM:-0500
TZOFFSETTO:-0600
TZNAME:CST
DTSTART:20221106T070000
END:STANDARD
BEGIN:DAYLIGHT
TZOFFSETFROM:-0600
TZOFFSETTO:-0500
TZNAME:CDT
DTSTART:20230312T080000
END:DAYLIGHT
BEGIN:STANDARD
TZOFFSETFROM:-0500
TZOFFSETTO:-0600
TZNAME:CST
DTSTART:20231105T070000
END:STANDARD
BEGIN:DAYLIGHT
TZOFFSETFROM:-0600
TZOFFSETTO:-0500
TZNAME:CDT
DTSTART:20240310T080000
END:DAYLIGHT
BEGIN:STANDARD
TZOFFSETFROM:-0500
TZOFFSETTO:-0600
TZNAME:CST
DTSTART:20241103T070000
END:STANDARD
END:VTIMEZONE
BEGIN:VEVENT
DTSTART;TZID=America/Chicago:20231219T190000
DTEND;TZID=America/Chicago:20231219T220000
DTSTAMP:20260419T210036
CREATED:20231126T162311Z
LAST-MODIFIED:20231126T162311Z
UID:10000702-1703012400-1703023200@www.madisonjazz.com
SUMMARY:Darren Sterud Orchestra's Ellington's Nutcracker
DESCRIPTION:The two performances on December 19 & 20 will be the last annual performance of this jazzy holiday classic.  Tickets: $10 to $30 through www.thecardinalbarmadison.com
URL:https://www.madisonjazz.com/event/darren-sterud-orchestras-ellingtons-nutcracker/
LOCATION:Cardinal Bar\, 418 E Wilson St\, Madison\, 53703\, United States
CATEGORIES:Other Events
GEO:43.0758013;-89.3771778
X-APPLE-STRUCTURED-LOCATION;VALUE=URI;X-ADDRESS=Cardinal Bar 418 E Wilson St Madison 53703 United States;X-APPLE-RADIUS=500;X-TITLE=418 E Wilson St:geo:-89.3771778,43.0758013
END:VEVENT
END:VCALENDAR