BEGIN:VCALENDAR
VERSION:2.0
PRODID:-//Madison Jazz Society - ECPv6.15.20//NONSGML v1.0//EN
CALSCALE:GREGORIAN
METHOD:PUBLISH
X-WR-CALNAME:Madison Jazz Society
X-ORIGINAL-URL:https://www.madisonjazz.com
X-WR-CALDESC:Events for Madison Jazz Society
REFRESH-INTERVAL;VALUE=DURATION:PT1H
X-Robots-Tag:noindex
X-PUBLISHED-TTL:PT1H
BEGIN:VTIMEZONE
TZID:America/Chicago
BEGIN:DAYLIGHT
TZOFFSETFROM:-0600
TZOFFSETTO:-0500
TZNAME:CDT
DTSTART:20220313T080000
END:DAYLIGHT
BEGIN:STANDARD
TZOFFSETFROM:-0500
TZOFFSETTO:-0600
TZNAME:CST
DTSTART:20221106T070000
END:STANDARD
BEGIN:DAYLIGHT
TZOFFSETFROM:-0600
TZOFFSETTO:-0500
TZNAME:CDT
DTSTART:20230312T080000
END:DAYLIGHT
BEGIN:STANDARD
TZOFFSETFROM:-0500
TZOFFSETTO:-0600
TZNAME:CST
DTSTART:20231105T070000
END:STANDARD
BEGIN:DAYLIGHT
TZOFFSETFROM:-0600
TZOFFSETTO:-0500
TZNAME:CDT
DTSTART:20240310T080000
END:DAYLIGHT
BEGIN:STANDARD
TZOFFSETFROM:-0500
TZOFFSETTO:-0600
TZNAME:CST
DTSTART:20241103T070000
END:STANDARD
END:VTIMEZONE
BEGIN:VEVENT
DTSTART;TZID=America/Chicago:20231006T173000
DTEND;TZID=America/Chicago:20231006T190000
DTSTAMP:20260420T100845
CREATED:20231006T154331Z
LAST-MODIFIED:20231006T154345Z
UID:10000616-1696613400-1696618800@www.madisonjazz.com
SUMMARY:Happy Hour with Gerri DiMaggio Trio
DESCRIPTION:
URL:https://www.madisonjazz.com/event/happy-hour-with-gerri-dimaggio-trio/
LOCATION:Cafe Coda\, 1224 Williamson St\, Madison\, WI\, 53703\, United States
CATEGORIES:Other Events
GEO:43.0839048;-89.3636915
X-APPLE-STRUCTURED-LOCATION;VALUE=URI;X-ADDRESS=Cafe Coda 1224 Williamson St Madison WI 53703 United States;X-APPLE-RADIUS=500;X-TITLE=1224 Williamson St:geo:-89.3636915,43.0839048
END:VEVENT
BEGIN:VEVENT
DTSTART;TZID=America/Chicago:20231006T193000
DTEND;TZID=America/Chicago:20231006T220000
DTSTAMP:20260420T100845
CREATED:20231006T154437Z
LAST-MODIFIED:20231006T154437Z
UID:10000617-1696620600-1696629600@www.madisonjazz.com
SUMMARY:Rare Element
DESCRIPTION:
URL:https://www.madisonjazz.com/event/rare-element/
LOCATION:Cafe Coda\, 1224 Williamson St\, Madison\, WI\, 53703\, United States
CATEGORIES:Other Events
GEO:43.0839048;-89.3636915
X-APPLE-STRUCTURED-LOCATION;VALUE=URI;X-ADDRESS=Cafe Coda 1224 Williamson St Madison WI 53703 United States;X-APPLE-RADIUS=500;X-TITLE=1224 Williamson St:geo:-89.3636915,43.0839048
END:VEVENT
END:VCALENDAR